View In:
ArcGIS JavaScript
ArcGIS Online Map Viewer
ArcGIS Earth
Service Description: GIS_Edits/GIS_Edits_TPENLAND_LIDAR_2017_DEM_03ft
Name: GIS_Edits/GIS_Edits_TPENLAND_LIDAR_2017_DEM_03ft
Description:
Single Fused Map Cache: false
Extent:
XMin: 882496.8723833412
YMin: 524999.9999999983
XMax: 1029999.9973833412
YMax: 654999.9999999983
Spatial Reference: 103122
(6543)
VCSWkid(105703)
LatestVCSWkid(6360)
Initial Extent:
XMin: 882496.8723833412
YMin: 524999.9999999983
XMax: 1029999.9973833412
YMax: 654999.9999999983
Spatial Reference: 103122
(6543)
VCSWkid(105703)
LatestVCSWkid(6360)
Full Extent:
XMin: 882496.8723833412
YMin: 524999.9999999983
XMax: 1029999.9973833412
YMax: 654999.9999999983
Spatial Reference: 103122
(6543)
VCSWkid(105703)
LatestVCSWkid(6360)
Pixel Size X: 3.125
Pixel Size Y: 3.125
Band Count: 1
Pixel Type: F32
RasterFunction Infos: {"rasterFunctionInfos": [{
"name": "None",
"description": "",
"help": ""
}]}
Mensuration Capabilities: Basic
Inspection Capabilities:
Has Histograms: true
Has Colormap: false
Has Multi Dimensions : false
Rendering Rule:
Min Scale: 0
Max Scale: 0
Copyright Text:
Service Data Type: esriImageServiceDataTypeGeneric
Min Values: 1207.291748046875
Max Values: 5302.6181640625
Mean Values: 2462.885232570199
Standard Deviation Values: 441.91136658318146
Object ID Field:
Fields:
None
Default Mosaic Method: Center
Allowed Mosaic Methods:
SortField:
SortValue: null
Mosaic Operator: First
Default Compression Quality: 75
Default Resampling Method: Bilinear
Max Record Count: null
Max Image Height: 4100
Max Image Width: 15000
Max Download Image Count: null
Max Mosaic Image Count: null
Allow Raster Function: true
Allow Copy: true
Allow Analysis: true
Allow Compute TiePoints: false
Supports Statistics: false
Supports Advanced Queries: false
Use StandardizedQueries: true
Raster Type Infos:
Name: Raster Dataset
Description: Supports all ArcGIS Raster Datasets
Help:
Has Raster Attribute Table: false
Edit Fields Info: null
Ownership Based AccessControl For Rasters: null
Child Resources:
Info
Histograms
Statistics
Key Properties
Legend
Raster Function Infos
Supported Operations:
Export Image
Identify
Measure
Compute Histograms
Compute Statistics Histograms
Get Samples
Compute Class Statistics
Query Boundary
Compute Pixel Location
Compute Angles
Validate
Project